BEGIN:VCALENDAR
VERSION:2.0
PRODID:-//Hollywood Community Kollel - ECPv6.15.17.1//NONSGML v1.0//EN
CALSCALE:GREGORIAN
METHOD:PUBLISH
X-WR-CALNAME:Hollywood Community Kollel
X-ORIGINAL-URL:https://hollywoodkollel.org
X-WR-CALDESC:Events for Hollywood Community Kollel
REFRESH-INTERVAL;VALUE=DURATION:PT1H
X-Robots-Tag:noindex
X-PUBLISHED-TTL:PT1H
BEGIN:VTIMEZONE
TZID:America/New_York
BEGIN:DAYLIGHT
TZOFFSETFROM:-0500
TZOFFSETTO:-0400
TZNAME:EDT
DTSTART:20250309T070000
END:DAYLIGHT
BEGIN:STANDARD
TZOFFSETFROM:-0400
TZOFFSETTO:-0500
TZNAME:EST
DTSTART:20251102T060000
END:STANDARD
BEGIN:DAYLIGHT
TZOFFSETFROM:-0500
TZOFFSETTO:-0400
TZNAME:EDT
DTSTART:20260308T070000
END:DAYLIGHT
BEGIN:STANDARD
TZOFFSETFROM:-0400
TZOFFSETTO:-0500
TZNAME:EST
DTSTART:20261101T060000
END:STANDARD
BEGIN:DAYLIGHT
TZOFFSETFROM:-0500
TZOFFSETTO:-0400
TZNAME:EDT
DTSTART:20270314T070000
END:DAYLIGHT
BEGIN:STANDARD
TZOFFSETFROM:-0400
TZOFFSETTO:-0500
TZNAME:EST
DTSTART:20271107T060000
END:STANDARD
END:VTIMEZONE
BEGIN:VEVENT
DTSTART;TZID=America/New_York:20260416T090000
DTEND;TZID=America/New_York:20260416T100000
DTSTAMP:20260419T162120
CREATED:20260216T151707Z
LAST-MODIFIED:20260302T184650Z
UID:10000863-1776330000-1776333600@hollywoodkollel.org
SUMMARY:Torah and Tangents
DESCRIPTION:A daily hour of Mishna Torah\, taught by R’ Mendel Samber.
URL:https://hollywoodkollel.org/event/lifelong-learning-program-2-2/2026-04-16/
LOCATION:Kollel\, 4016 N 46th Ave\, Hollywood\, FL\, 33160\, United States
CATEGORIES:Adult Men
ATTACH;FMTTYPE=image/jpeg:https://hollywoodkollel.org/wp-content/uploads/2022/12/lifelong-program-flyer.jpg
END:VEVENT
BEGIN:VEVENT
DTSTART;TZID=America/New_York:20260416T140000
DTEND;TZID=America/New_York:20260416T141500
DTSTAMP:20260419T162120
CREATED:20260203T191659Z
LAST-MODIFIED:20260211T174023Z
UID:10010339-1776348000-1776348900@hollywoodkollel.org
SUMMARY:Mincha
DESCRIPTION:
URL:https://hollywoodkollel.org/event/mincha/2026-04-16/
LOCATION:Kollel\, 4016 N 46th Ave\, Hollywood\, FL\, 33160\, United States
CATEGORIES:Adult Men,Middle School Boys,Teen Boys
END:VEVENT
BEGIN:VEVENT
DTSTART;TZID=America/New_York:20260416T203000
DTEND;TZID=America/New_York:20260416T213000
DTSTAMP:20260419T162120
CREATED:20221228T152446Z
LAST-MODIFIED:20260218T000514Z
UID:10002171-1776371400-1776375000@hollywoodkollel.org
SUMMARY:Kinyan Mesechtah\, Gemorrah Sotah
DESCRIPTION:Learn\, Understand & Remember a Complete Mesechta (Tractate) with Rabbi Yehuda Goldfarb\, Intermediate & Advanced.
URL:https://hollywoodkollel.org/event/kinyan-mesechtah/2026-04-16/
LOCATION:Kollel\, 4016 N 46th Ave\, Hollywood\, FL\, 33160\, United States
CATEGORIES:Adult Men
END:VEVENT
BEGIN:VEVENT
DTSTART;TZID=America/New_York:20260416T203000
DTEND;TZID=America/New_York:20260416T213000
DTSTAMP:20260419T162120
CREATED:20221228T232603Z
LAST-MODIFIED:20230102T182722Z
UID:10006698-1776371400-1776375000@hollywoodkollel.org
SUMMARY:Introductory Gemarah
DESCRIPTION:Introductory Gemarah\, with Rabbi Yaakov Fried. \nThere will be Cholent\, Chicken\, Drinks & Snacks.
URL:https://hollywoodkollel.org/event/introductory-gemarah/2026-04-16/
LOCATION:FL
CATEGORIES:Adult Men
END:VEVENT
BEGIN:VEVENT
DTSTART;TZID=America/New_York:20260416T213000
DTEND;TZID=America/New_York:20260416T214500
DTSTAMP:20260419T162120
CREATED:20260218T000414Z
LAST-MODIFIED:20260218T000414Z
UID:10017636-1776375000-1776375900@hollywoodkollel.org
SUMMARY:Marriv
DESCRIPTION:Marriv
URL:https://hollywoodkollel.org/event/marriv/2026-04-16/
LOCATION:Kollel\, 4016 N 46th Ave\, Hollywood\, FL\, 33160\, United States
END:VEVENT
END:VCALENDAR