BEGIN:VCALENDAR
VERSION:2.0
PRODID:-//Hollywood Community Kollel - ECPv6.15.17.1//NONSGML v1.0//EN
CALSCALE:GREGORIAN
METHOD:PUBLISH
X-WR-CALNAME:Hollywood Community Kollel
X-ORIGINAL-URL:https://hollywoodkollel.org
X-WR-CALDESC:Events for Hollywood Community Kollel
REFRESH-INTERVAL;VALUE=DURATION:PT1H
X-Robots-Tag:noindex
X-PUBLISHED-TTL:PT1H
BEGIN:VTIMEZONE
TZID:America/New_York
BEGIN:DAYLIGHT
TZOFFSETFROM:-0500
TZOFFSETTO:-0400
TZNAME:EDT
DTSTART:20250309T070000
END:DAYLIGHT
BEGIN:STANDARD
TZOFFSETFROM:-0400
TZOFFSETTO:-0500
TZNAME:EST
DTSTART:20251102T060000
END:STANDARD
BEGIN:DAYLIGHT
TZOFFSETFROM:-0500
TZOFFSETTO:-0400
TZNAME:EDT
DTSTART:20260308T070000
END:DAYLIGHT
BEGIN:STANDARD
TZOFFSETFROM:-0400
TZOFFSETTO:-0500
TZNAME:EST
DTSTART:20261101T060000
END:STANDARD
BEGIN:DAYLIGHT
TZOFFSETFROM:-0500
TZOFFSETTO:-0400
TZNAME:EDT
DTSTART:20270314T070000
END:DAYLIGHT
BEGIN:STANDARD
TZOFFSETFROM:-0400
TZOFFSETTO:-0500
TZNAME:EST
DTSTART:20271107T060000
END:STANDARD
END:VTIMEZONE
BEGIN:VEVENT
DTSTART;TZID=America/New_York:20260419T203000
DTEND;TZID=America/New_York:20260419T213000
DTSTAMP:20260419T091655
CREATED:20221228T152446Z
LAST-MODIFIED:20260218T000514Z
UID:10002172-1776630600-1776634200@hollywoodkollel.org
SUMMARY:Kinyan Mesechtah\, Gemorrah Sotah
DESCRIPTION:Learn\, Understand & Remember a Complete Mesechta (Tractate) with Rabbi Yehuda Goldfarb\, Intermediate & Advanced.
URL:https://hollywoodkollel.org/event/kinyan-mesechtah/2026-04-19/
LOCATION:Kollel\, 4016 N 46th Ave\, Hollywood\, FL\, 33160\, United States
CATEGORIES:Adult Men
END:VEVENT
BEGIN:VEVENT
DTSTART;TZID=America/New_York:20260421T203000
DTEND;TZID=America/New_York:20260421T213000
DTSTAMP:20260419T091655
CREATED:20221228T152446Z
LAST-MODIFIED:20260218T000514Z
UID:10003302-1776803400-1776807000@hollywoodkollel.org
SUMMARY:Kinyan Mesechtah\, Gemorrah Sotah
DESCRIPTION:Learn\, Understand & Remember a Complete Mesechta (Tractate) with Rabbi Yehuda Goldfarb\, Intermediate & Advanced.
URL:https://hollywoodkollel.org/event/kinyan-mesechtah/2026-04-21/
LOCATION:Kollel\, 4016 N 46th Ave\, Hollywood\, FL\, 33160\, United States
CATEGORIES:Adult Men
END:VEVENT
BEGIN:VEVENT
DTSTART;TZID=America/New_York:20260423T203000
DTEND;TZID=America/New_York:20260423T213000
DTSTAMP:20260419T091655
CREATED:20221228T152446Z
LAST-MODIFIED:20260218T000514Z
UID:10002173-1776976200-1776979800@hollywoodkollel.org
SUMMARY:Kinyan Mesechtah\, Gemorrah Sotah
DESCRIPTION:Learn\, Understand & Remember a Complete Mesechta (Tractate) with Rabbi Yehuda Goldfarb\, Intermediate & Advanced.
URL:https://hollywoodkollel.org/event/kinyan-mesechtah/2026-04-23/
LOCATION:Kollel\, 4016 N 46th Ave\, Hollywood\, FL\, 33160\, United States
CATEGORIES:Adult Men
END:VEVENT
BEGIN:VEVENT
DTSTART;TZID=America/New_York:20260426T203000
DTEND;TZID=America/New_York:20260426T213000
DTSTAMP:20260419T091655
CREATED:20221228T152446Z
LAST-MODIFIED:20260218T000514Z
UID:10002174-1777235400-1777239000@hollywoodkollel.org
SUMMARY:Kinyan Mesechtah\, Gemorrah Sotah
DESCRIPTION:Learn\, Understand & Remember a Complete Mesechta (Tractate) with Rabbi Yehuda Goldfarb\, Intermediate & Advanced.
URL:https://hollywoodkollel.org/event/kinyan-mesechtah/2026-04-26/
LOCATION:Kollel\, 4016 N 46th Ave\, Hollywood\, FL\, 33160\, United States
CATEGORIES:Adult Men
END:VEVENT
BEGIN:VEVENT
DTSTART;TZID=America/New_York:20260428T203000
DTEND;TZID=America/New_York:20260428T213000
DTSTAMP:20260419T091655
CREATED:20221228T152446Z
LAST-MODIFIED:20260218T000514Z
UID:10003303-1777408200-1777411800@hollywoodkollel.org
SUMMARY:Kinyan Mesechtah\, Gemorrah Sotah
DESCRIPTION:Learn\, Understand & Remember a Complete Mesechta (Tractate) with Rabbi Yehuda Goldfarb\, Intermediate & Advanced.
URL:https://hollywoodkollel.org/event/kinyan-mesechtah/2026-04-28/
LOCATION:Kollel\, 4016 N 46th Ave\, Hollywood\, FL\, 33160\, United States
CATEGORIES:Adult Men
END:VEVENT
BEGIN:VEVENT
DTSTART;TZID=America/New_York:20260430T203000
DTEND;TZID=America/New_York:20260430T213000
DTSTAMP:20260419T091655
CREATED:20221228T152446Z
LAST-MODIFIED:20260218T000514Z
UID:10002175-1777581000-1777584600@hollywoodkollel.org
SUMMARY:Kinyan Mesechtah\, Gemorrah Sotah
DESCRIPTION:Learn\, Understand & Remember a Complete Mesechta (Tractate) with Rabbi Yehuda Goldfarb\, Intermediate & Advanced.
URL:https://hollywoodkollel.org/event/kinyan-mesechtah/2026-04-30/
LOCATION:Kollel\, 4016 N 46th Ave\, Hollywood\, FL\, 33160\, United States
CATEGORIES:Adult Men
END:VEVENT
BEGIN:VEVENT
DTSTART;TZID=America/New_York:20260503T203000
DTEND;TZID=America/New_York:20260503T213000
DTSTAMP:20260419T091655
CREATED:20221228T152446Z
LAST-MODIFIED:20260218T000514Z
UID:10002176-1777840200-1777843800@hollywoodkollel.org
SUMMARY:Kinyan Mesechtah\, Gemorrah Sotah
DESCRIPTION:Learn\, Understand & Remember a Complete Mesechta (Tractate) with Rabbi Yehuda Goldfarb\, Intermediate & Advanced.
URL:https://hollywoodkollel.org/event/kinyan-mesechtah/2026-05-03/
LOCATION:Kollel\, 4016 N 46th Ave\, Hollywood\, FL\, 33160\, United States
CATEGORIES:Adult Men
END:VEVENT
BEGIN:VEVENT
DTSTART;TZID=America/New_York:20260505T203000
DTEND;TZID=America/New_York:20260505T213000
DTSTAMP:20260419T091655
CREATED:20221228T152446Z
LAST-MODIFIED:20260218T000514Z
UID:10003304-1778013000-1778016600@hollywoodkollel.org
SUMMARY:Kinyan Mesechtah\, Gemorrah Sotah
DESCRIPTION:Learn\, Understand & Remember a Complete Mesechta (Tractate) with Rabbi Yehuda Goldfarb\, Intermediate & Advanced.
URL:https://hollywoodkollel.org/event/kinyan-mesechtah/2026-05-05/
LOCATION:Kollel\, 4016 N 46th Ave\, Hollywood\, FL\, 33160\, United States
CATEGORIES:Adult Men
END:VEVENT
BEGIN:VEVENT
DTSTART;TZID=America/New_York:20260507T203000
DTEND;TZID=America/New_York:20260507T213000
DTSTAMP:20260419T091655
CREATED:20221228T152446Z
LAST-MODIFIED:20260218T000514Z
UID:10002177-1778185800-1778189400@hollywoodkollel.org
SUMMARY:Kinyan Mesechtah\, Gemorrah Sotah
DESCRIPTION:Learn\, Understand & Remember a Complete Mesechta (Tractate) with Rabbi Yehuda Goldfarb\, Intermediate & Advanced.
URL:https://hollywoodkollel.org/event/kinyan-mesechtah/2026-05-07/
LOCATION:Kollel\, 4016 N 46th Ave\, Hollywood\, FL\, 33160\, United States
CATEGORIES:Adult Men
END:VEVENT
BEGIN:VEVENT
DTSTART;TZID=America/New_York:20260510T203000
DTEND;TZID=America/New_York:20260510T213000
DTSTAMP:20260419T091655
CREATED:20221228T152446Z
LAST-MODIFIED:20260218T000514Z
UID:10002178-1778445000-1778448600@hollywoodkollel.org
SUMMARY:Kinyan Mesechtah\, Gemorrah Sotah
DESCRIPTION:Learn\, Understand & Remember a Complete Mesechta (Tractate) with Rabbi Yehuda Goldfarb\, Intermediate & Advanced.
URL:https://hollywoodkollel.org/event/kinyan-mesechtah/2026-05-10/
LOCATION:Kollel\, 4016 N 46th Ave\, Hollywood\, FL\, 33160\, United States
CATEGORIES:Adult Men
END:VEVENT
BEGIN:VEVENT
DTSTART;TZID=America/New_York:20260512T203000
DTEND;TZID=America/New_York:20260512T213000
DTSTAMP:20260419T091655
CREATED:20221228T152446Z
LAST-MODIFIED:20260218T000514Z
UID:10003305-1778617800-1778621400@hollywoodkollel.org
SUMMARY:Kinyan Mesechtah\, Gemorrah Sotah
DESCRIPTION:Learn\, Understand & Remember a Complete Mesechta (Tractate) with Rabbi Yehuda Goldfarb\, Intermediate & Advanced.
URL:https://hollywoodkollel.org/event/kinyan-mesechtah/2026-05-12/
LOCATION:Kollel\, 4016 N 46th Ave\, Hollywood\, FL\, 33160\, United States
CATEGORIES:Adult Men
END:VEVENT
BEGIN:VEVENT
DTSTART;TZID=America/New_York:20260514T203000
DTEND;TZID=America/New_York:20260514T213000
DTSTAMP:20260419T091655
CREATED:20221228T152446Z
LAST-MODIFIED:20260218T000514Z
UID:10002179-1778790600-1778794200@hollywoodkollel.org
SUMMARY:Kinyan Mesechtah\, Gemorrah Sotah
DESCRIPTION:Learn\, Understand & Remember a Complete Mesechta (Tractate) with Rabbi Yehuda Goldfarb\, Intermediate & Advanced.
URL:https://hollywoodkollel.org/event/kinyan-mesechtah/2026-05-14/
LOCATION:Kollel\, 4016 N 46th Ave\, Hollywood\, FL\, 33160\, United States
CATEGORIES:Adult Men
END:VEVENT
BEGIN:VEVENT
DTSTART;TZID=America/New_York:20260517T203000
DTEND;TZID=America/New_York:20260517T213000
DTSTAMP:20260419T091655
CREATED:20221228T152446Z
LAST-MODIFIED:20260218T000514Z
UID:10002180-1779049800-1779053400@hollywoodkollel.org
SUMMARY:Kinyan Mesechtah\, Gemorrah Sotah
DESCRIPTION:Learn\, Understand & Remember a Complete Mesechta (Tractate) with Rabbi Yehuda Goldfarb\, Intermediate & Advanced.
URL:https://hollywoodkollel.org/event/kinyan-mesechtah/2026-05-17/
LOCATION:Kollel\, 4016 N 46th Ave\, Hollywood\, FL\, 33160\, United States
CATEGORIES:Adult Men
END:VEVENT
BEGIN:VEVENT
DTSTART;TZID=America/New_York:20260519T203000
DTEND;TZID=America/New_York:20260519T213000
DTSTAMP:20260419T091655
CREATED:20221228T152446Z
LAST-MODIFIED:20260218T000514Z
UID:10003306-1779222600-1779226200@hollywoodkollel.org
SUMMARY:Kinyan Mesechtah\, Gemorrah Sotah
DESCRIPTION:Learn\, Understand & Remember a Complete Mesechta (Tractate) with Rabbi Yehuda Goldfarb\, Intermediate & Advanced.
URL:https://hollywoodkollel.org/event/kinyan-mesechtah/2026-05-19/
LOCATION:Kollel\, 4016 N 46th Ave\, Hollywood\, FL\, 33160\, United States
CATEGORIES:Adult Men
END:VEVENT
BEGIN:VEVENT
DTSTART;TZID=America/New_York:20260521T203000
DTEND;TZID=America/New_York:20260521T213000
DTSTAMP:20260419T091655
CREATED:20221228T152446Z
LAST-MODIFIED:20260218T000514Z
UID:10002181-1779395400-1779399000@hollywoodkollel.org
SUMMARY:Kinyan Mesechtah\, Gemorrah Sotah
DESCRIPTION:Learn\, Understand & Remember a Complete Mesechta (Tractate) with Rabbi Yehuda Goldfarb\, Intermediate & Advanced.
URL:https://hollywoodkollel.org/event/kinyan-mesechtah/2026-05-21/
LOCATION:Kollel\, 4016 N 46th Ave\, Hollywood\, FL\, 33160\, United States
CATEGORIES:Adult Men
END:VEVENT
BEGIN:VEVENT
DTSTART;TZID=America/New_York:20260524T203000
DTEND;TZID=America/New_York:20260524T213000
DTSTAMP:20260419T091655
CREATED:20221228T152446Z
LAST-MODIFIED:20260218T000514Z
UID:10002182-1779654600-1779658200@hollywoodkollel.org
SUMMARY:Kinyan Mesechtah\, Gemorrah Sotah
DESCRIPTION:Learn\, Understand & Remember a Complete Mesechta (Tractate) with Rabbi Yehuda Goldfarb\, Intermediate & Advanced.
URL:https://hollywoodkollel.org/event/kinyan-mesechtah/2026-05-24/
LOCATION:Kollel\, 4016 N 46th Ave\, Hollywood\, FL\, 33160\, United States
CATEGORIES:Adult Men
END:VEVENT
BEGIN:VEVENT
DTSTART;TZID=America/New_York:20260526T203000
DTEND;TZID=America/New_York:20260526T213000
DTSTAMP:20260419T091655
CREATED:20221228T152446Z
LAST-MODIFIED:20260218T000514Z
UID:10003307-1779827400-1779831000@hollywoodkollel.org
SUMMARY:Kinyan Mesechtah\, Gemorrah Sotah
DESCRIPTION:Learn\, Understand & Remember a Complete Mesechta (Tractate) with Rabbi Yehuda Goldfarb\, Intermediate & Advanced.
URL:https://hollywoodkollel.org/event/kinyan-mesechtah/2026-05-26/
LOCATION:Kollel\, 4016 N 46th Ave\, Hollywood\, FL\, 33160\, United States
CATEGORIES:Adult Men
END:VEVENT
BEGIN:VEVENT
DTSTART;TZID=America/New_York:20260528T203000
DTEND;TZID=America/New_York:20260528T213000
DTSTAMP:20260419T091655
CREATED:20221228T152446Z
LAST-MODIFIED:20260218T000514Z
UID:10002183-1780000200-1780003800@hollywoodkollel.org
SUMMARY:Kinyan Mesechtah\, Gemorrah Sotah
DESCRIPTION:Learn\, Understand & Remember a Complete Mesechta (Tractate) with Rabbi Yehuda Goldfarb\, Intermediate & Advanced.
URL:https://hollywoodkollel.org/event/kinyan-mesechtah/2026-05-28/
LOCATION:Kollel\, 4016 N 46th Ave\, Hollywood\, FL\, 33160\, United States
CATEGORIES:Adult Men
END:VEVENT
BEGIN:VEVENT
DTSTART;TZID=America/New_York:20260531T203000
DTEND;TZID=America/New_York:20260531T213000
DTSTAMP:20260419T091655
CREATED:20221228T152446Z
LAST-MODIFIED:20260218T000514Z
UID:10002184-1780259400-1780263000@hollywoodkollel.org
SUMMARY:Kinyan Mesechtah\, Gemorrah Sotah
DESCRIPTION:Learn\, Understand & Remember a Complete Mesechta (Tractate) with Rabbi Yehuda Goldfarb\, Intermediate & Advanced.
URL:https://hollywoodkollel.org/event/kinyan-mesechtah/2026-05-31/
LOCATION:Kollel\, 4016 N 46th Ave\, Hollywood\, FL\, 33160\, United States
CATEGORIES:Adult Men
END:VEVENT
BEGIN:VEVENT
DTSTART;TZID=America/New_York:20260602T203000
DTEND;TZID=America/New_York:20260602T213000
DTSTAMP:20260419T091655
CREATED:20221228T152446Z
LAST-MODIFIED:20260218T000514Z
UID:10003308-1780432200-1780435800@hollywoodkollel.org
SUMMARY:Kinyan Mesechtah\, Gemorrah Sotah
DESCRIPTION:Learn\, Understand & Remember a Complete Mesechta (Tractate) with Rabbi Yehuda Goldfarb\, Intermediate & Advanced.
URL:https://hollywoodkollel.org/event/kinyan-mesechtah/2026-06-02/
LOCATION:Kollel\, 4016 N 46th Ave\, Hollywood\, FL\, 33160\, United States
CATEGORIES:Adult Men
END:VEVENT
BEGIN:VEVENT
DTSTART;TZID=America/New_York:20260604T203000
DTEND;TZID=America/New_York:20260604T213000
DTSTAMP:20260419T091655
CREATED:20221228T152446Z
LAST-MODIFIED:20260218T000514Z
UID:10002185-1780605000-1780608600@hollywoodkollel.org
SUMMARY:Kinyan Mesechtah\, Gemorrah Sotah
DESCRIPTION:Learn\, Understand & Remember a Complete Mesechta (Tractate) with Rabbi Yehuda Goldfarb\, Intermediate & Advanced.
URL:https://hollywoodkollel.org/event/kinyan-mesechtah/2026-06-04/
LOCATION:Kollel\, 4016 N 46th Ave\, Hollywood\, FL\, 33160\, United States
CATEGORIES:Adult Men
END:VEVENT
BEGIN:VEVENT
DTSTART;TZID=America/New_York:20260607T203000
DTEND;TZID=America/New_York:20260607T213000
DTSTAMP:20260419T091655
CREATED:20221228T152446Z
LAST-MODIFIED:20260218T000514Z
UID:10002186-1780864200-1780867800@hollywoodkollel.org
SUMMARY:Kinyan Mesechtah\, Gemorrah Sotah
DESCRIPTION:Learn\, Understand & Remember a Complete Mesechta (Tractate) with Rabbi Yehuda Goldfarb\, Intermediate & Advanced.
URL:https://hollywoodkollel.org/event/kinyan-mesechtah/2026-06-07/
LOCATION:Kollel\, 4016 N 46th Ave\, Hollywood\, FL\, 33160\, United States
CATEGORIES:Adult Men
END:VEVENT
BEGIN:VEVENT
DTSTART;TZID=America/New_York:20260609T203000
DTEND;TZID=America/New_York:20260609T213000
DTSTAMP:20260419T091655
CREATED:20221228T152446Z
LAST-MODIFIED:20260218T000514Z
UID:10003309-1781037000-1781040600@hollywoodkollel.org
SUMMARY:Kinyan Mesechtah\, Gemorrah Sotah
DESCRIPTION:Learn\, Understand & Remember a Complete Mesechta (Tractate) with Rabbi Yehuda Goldfarb\, Intermediate & Advanced.
URL:https://hollywoodkollel.org/event/kinyan-mesechtah/2026-06-09/
LOCATION:Kollel\, 4016 N 46th Ave\, Hollywood\, FL\, 33160\, United States
CATEGORIES:Adult Men
END:VEVENT
BEGIN:VEVENT
DTSTART;TZID=America/New_York:20260611T203000
DTEND;TZID=America/New_York:20260611T213000
DTSTAMP:20260419T091655
CREATED:20221228T152446Z
LAST-MODIFIED:20260218T000514Z
UID:10002187-1781209800-1781213400@hollywoodkollel.org
SUMMARY:Kinyan Mesechtah\, Gemorrah Sotah
DESCRIPTION:Learn\, Understand & Remember a Complete Mesechta (Tractate) with Rabbi Yehuda Goldfarb\, Intermediate & Advanced.
URL:https://hollywoodkollel.org/event/kinyan-mesechtah/2026-06-11/
LOCATION:Kollel\, 4016 N 46th Ave\, Hollywood\, FL\, 33160\, United States
CATEGORIES:Adult Men
END:VEVENT
BEGIN:VEVENT
DTSTART;TZID=America/New_York:20260614T203000
DTEND;TZID=America/New_York:20260614T213000
DTSTAMP:20260419T091655
CREATED:20221228T152446Z
LAST-MODIFIED:20260218T000514Z
UID:10002188-1781469000-1781472600@hollywoodkollel.org
SUMMARY:Kinyan Mesechtah\, Gemorrah Sotah
DESCRIPTION:Learn\, Understand & Remember a Complete Mesechta (Tractate) with Rabbi Yehuda Goldfarb\, Intermediate & Advanced.
URL:https://hollywoodkollel.org/event/kinyan-mesechtah/2026-06-14/
LOCATION:Kollel\, 4016 N 46th Ave\, Hollywood\, FL\, 33160\, United States
CATEGORIES:Adult Men
END:VEVENT
BEGIN:VEVENT
DTSTART;TZID=America/New_York:20260616T203000
DTEND;TZID=America/New_York:20260616T213000
DTSTAMP:20260419T091655
CREATED:20221228T152446Z
LAST-MODIFIED:20260218T000514Z
UID:10003310-1781641800-1781645400@hollywoodkollel.org
SUMMARY:Kinyan Mesechtah\, Gemorrah Sotah
DESCRIPTION:Learn\, Understand & Remember a Complete Mesechta (Tractate) with Rabbi Yehuda Goldfarb\, Intermediate & Advanced.
URL:https://hollywoodkollel.org/event/kinyan-mesechtah/2026-06-16/
LOCATION:Kollel\, 4016 N 46th Ave\, Hollywood\, FL\, 33160\, United States
CATEGORIES:Adult Men
END:VEVENT
BEGIN:VEVENT
DTSTART;TZID=America/New_York:20260618T203000
DTEND;TZID=America/New_York:20260618T213000
DTSTAMP:20260419T091655
CREATED:20221228T152446Z
LAST-MODIFIED:20260218T000514Z
UID:10002189-1781814600-1781818200@hollywoodkollel.org
SUMMARY:Kinyan Mesechtah\, Gemorrah Sotah
DESCRIPTION:Learn\, Understand & Remember a Complete Mesechta (Tractate) with Rabbi Yehuda Goldfarb\, Intermediate & Advanced.
URL:https://hollywoodkollel.org/event/kinyan-mesechtah/2026-06-18/
LOCATION:Kollel\, 4016 N 46th Ave\, Hollywood\, FL\, 33160\, United States
CATEGORIES:Adult Men
END:VEVENT
BEGIN:VEVENT
DTSTART;TZID=America/New_York:20260621T203000
DTEND;TZID=America/New_York:20260621T213000
DTSTAMP:20260419T091655
CREATED:20221228T152446Z
LAST-MODIFIED:20260218T000514Z
UID:10002190-1782073800-1782077400@hollywoodkollel.org
SUMMARY:Kinyan Mesechtah\, Gemorrah Sotah
DESCRIPTION:Learn\, Understand & Remember a Complete Mesechta (Tractate) with Rabbi Yehuda Goldfarb\, Intermediate & Advanced.
URL:https://hollywoodkollel.org/event/kinyan-mesechtah/2026-06-21/
LOCATION:Kollel\, 4016 N 46th Ave\, Hollywood\, FL\, 33160\, United States
CATEGORIES:Adult Men
END:VEVENT
BEGIN:VEVENT
DTSTART;TZID=America/New_York:20260623T203000
DTEND;TZID=America/New_York:20260623T213000
DTSTAMP:20260419T091655
CREATED:20221228T152446Z
LAST-MODIFIED:20260218T000514Z
UID:10003311-1782246600-1782250200@hollywoodkollel.org
SUMMARY:Kinyan Mesechtah\, Gemorrah Sotah
DESCRIPTION:Learn\, Understand & Remember a Complete Mesechta (Tractate) with Rabbi Yehuda Goldfarb\, Intermediate & Advanced.
URL:https://hollywoodkollel.org/event/kinyan-mesechtah/2026-06-23/
LOCATION:Kollel\, 4016 N 46th Ave\, Hollywood\, FL\, 33160\, United States
CATEGORIES:Adult Men
END:VEVENT
BEGIN:VEVENT
DTSTART;TZID=America/New_York:20260625T203000
DTEND;TZID=America/New_York:20260625T213000
DTSTAMP:20260419T091655
CREATED:20221228T152446Z
LAST-MODIFIED:20260218T000514Z
UID:10002191-1782419400-1782423000@hollywoodkollel.org
SUMMARY:Kinyan Mesechtah\, Gemorrah Sotah
DESCRIPTION:Learn\, Understand & Remember a Complete Mesechta (Tractate) with Rabbi Yehuda Goldfarb\, Intermediate & Advanced.
URL:https://hollywoodkollel.org/event/kinyan-mesechtah/2026-06-25/
LOCATION:Kollel\, 4016 N 46th Ave\, Hollywood\, FL\, 33160\, United States
CATEGORIES:Adult Men
END:VEVENT
END:VCALENDAR